BEGIN:VCALENDAR
VERSION:2.0
PRODID:-//The Children’s Museum at Saratoga - ECPv6.15.20//NONSGML v1.0//EN
CALSCALE:GREGORIAN
METHOD:PUBLISH
X-WR-CALNAME:The Children’s Museum at Saratoga
X-ORIGINAL-URL:https://cmssny.org
X-WR-CALDESC:Events for The Children’s Museum at Saratoga
REFRESH-INTERVAL;VALUE=DURATION:PT1H
X-Robots-Tag:noindex
X-PUBLISHED-TTL:PT1H
BEGIN:VTIMEZONE
TZID:America/New_York
BEGIN:DAYLIGHT
TZOFFSETFROM:-0500
TZOFFSETTO:-0400
TZNAME:EDT
DTSTART:20250309T070000
END:DAYLIGHT
BEGIN:STANDARD
TZOFFSETFROM:-0400
TZOFFSETTO:-0500
TZNAME:EST
DTSTART:20251102T060000
END:STANDARD
BEGIN:DAYLIGHT
TZOFFSETFROM:-0500
TZOFFSETTO:-0400
TZNAME:EDT
DTSTART:20260308T070000
END:DAYLIGHT
BEGIN:STANDARD
TZOFFSETFROM:-0400
TZOFFSETTO:-0500
TZNAME:EST
DTSTART:20261101T060000
END:STANDARD
BEGIN:DAYLIGHT
TZOFFSETFROM:-0500
TZOFFSETTO:-0400
TZNAME:EDT
DTSTART:20270314T070000
END:DAYLIGHT
BEGIN:STANDARD
TZOFFSETFROM:-0400
TZOFFSETTO:-0500
TZNAME:EST
DTSTART:20271107T060000
END:STANDARD
END:VTIMEZONE
BEGIN:VEVENT
DTSTART;TZID=America/New_York:20260426T140000
DTEND;TZID=America/New_York:20260426T150000
DTSTAMP:20260421T082131
CREATED:20250311T212119Z
LAST-MODIFIED:20250829T182926Z
UID:10013477-1777212000-1777215600@cmssny.org
SUMMARY:Make It!
DESCRIPTION:Make It! is a weekly activity where kids can unleash some creative energy on the weekend. This Sunday activity will be from 2 to 3pm.
URL:https://cmssny.org/event/make-it/2026-04-26/
ATTACH;FMTTYPE=image/png:https://cmssny.org/wp-content/uploads/2025/03/Make-it.png
END:VEVENT
BEGIN:VEVENT
DTSTART;TZID=America/New_York:20260503T140000
DTEND;TZID=America/New_York:20260503T150000
DTSTAMP:20260421T082131
CREATED:20250311T212119Z
LAST-MODIFIED:20250829T182926Z
UID:10013478-1777816800-1777820400@cmssny.org
SUMMARY:Make It!
DESCRIPTION:Make It! is a weekly activity where kids can unleash some creative energy on the weekend. This Sunday activity will be from 2 to 3pm.
URL:https://cmssny.org/event/make-it/2026-05-03/
ATTACH;FMTTYPE=image/png:https://cmssny.org/wp-content/uploads/2025/03/Make-it.png
END:VEVENT
BEGIN:VEVENT
DTSTART;TZID=America/New_York:20260510T140000
DTEND;TZID=America/New_York:20260510T150000
DTSTAMP:20260421T082131
CREATED:20250311T212119Z
LAST-MODIFIED:20250829T182926Z
UID:10013479-1778421600-1778425200@cmssny.org
SUMMARY:Make It!
DESCRIPTION:Make It! is a weekly activity where kids can unleash some creative energy on the weekend. This Sunday activity will be from 2 to 3pm.
URL:https://cmssny.org/event/make-it/2026-05-10/
ATTACH;FMTTYPE=image/png:https://cmssny.org/wp-content/uploads/2025/03/Make-it.png
END:VEVENT
BEGIN:VEVENT
DTSTART;TZID=America/New_York:20260517T140000
DTEND;TZID=America/New_York:20260517T150000
DTSTAMP:20260421T082131
CREATED:20250311T212119Z
LAST-MODIFIED:20250829T182926Z
UID:10013480-1779026400-1779030000@cmssny.org
SUMMARY:Make It!
DESCRIPTION:Make It! is a weekly activity where kids can unleash some creative energy on the weekend. This Sunday activity will be from 2 to 3pm.
URL:https://cmssny.org/event/make-it/2026-05-17/
ATTACH;FMTTYPE=image/png:https://cmssny.org/wp-content/uploads/2025/03/Make-it.png
END:VEVENT
BEGIN:VEVENT
DTSTART;TZID=America/New_York:20260524T140000
DTEND;TZID=America/New_York:20260524T150000
DTSTAMP:20260421T082131
CREATED:20250311T212119Z
LAST-MODIFIED:20250829T182926Z
UID:10013481-1779631200-1779634800@cmssny.org
SUMMARY:Make It!
DESCRIPTION:Make It! is a weekly activity where kids can unleash some creative energy on the weekend. This Sunday activity will be from 2 to 3pm.
URL:https://cmssny.org/event/make-it/2026-05-24/
ATTACH;FMTTYPE=image/png:https://cmssny.org/wp-content/uploads/2025/03/Make-it.png
END:VEVENT
BEGIN:VEVENT
DTSTART;TZID=America/New_York:20260531T140000
DTEND;TZID=America/New_York:20260531T150000
DTSTAMP:20260421T082131
CREATED:20250311T212119Z
LAST-MODIFIED:20250829T182926Z
UID:10013482-1780236000-1780239600@cmssny.org
SUMMARY:Make It!
DESCRIPTION:Make It! is a weekly activity where kids can unleash some creative energy on the weekend. This Sunday activity will be from 2 to 3pm.
URL:https://cmssny.org/event/make-it/2026-05-31/
ATTACH;FMTTYPE=image/png:https://cmssny.org/wp-content/uploads/2025/03/Make-it.png
END:VEVENT
BEGIN:VEVENT
DTSTART;TZID=America/New_York:20260607T140000
DTEND;TZID=America/New_York:20260607T150000
DTSTAMP:20260421T082131
CREATED:20250311T212119Z
LAST-MODIFIED:20250829T182926Z
UID:10013483-1780840800-1780844400@cmssny.org
SUMMARY:Make It!
DESCRIPTION:Make It! is a weekly activity where kids can unleash some creative energy on the weekend. This Sunday activity will be from 2 to 3pm.
URL:https://cmssny.org/event/make-it/2026-06-07/
ATTACH;FMTTYPE=image/png:https://cmssny.org/wp-content/uploads/2025/03/Make-it.png
END:VEVENT
BEGIN:VEVENT
DTSTART;TZID=America/New_York:20260614T140000
DTEND;TZID=America/New_York:20260614T150000
DTSTAMP:20260421T082131
CREATED:20250311T212119Z
LAST-MODIFIED:20250829T182926Z
UID:10013484-1781445600-1781449200@cmssny.org
SUMMARY:Make It!
DESCRIPTION:Make It! is a weekly activity where kids can unleash some creative energy on the weekend. This Sunday activity will be from 2 to 3pm.
URL:https://cmssny.org/event/make-it/2026-06-14/
ATTACH;FMTTYPE=image/png:https://cmssny.org/wp-content/uploads/2025/03/Make-it.png
END:VEVENT
BEGIN:VEVENT
DTSTART;TZID=America/New_York:20260621T140000
DTEND;TZID=America/New_York:20260621T150000
DTSTAMP:20260421T082131
CREATED:20250311T212119Z
LAST-MODIFIED:20250829T182926Z
UID:10013485-1782050400-1782054000@cmssny.org
SUMMARY:Make It!
DESCRIPTION:Make It! is a weekly activity where kids can unleash some creative energy on the weekend. This Sunday activity will be from 2 to 3pm.
URL:https://cmssny.org/event/make-it/2026-06-21/
ATTACH;FMTTYPE=image/png:https://cmssny.org/wp-content/uploads/2025/03/Make-it.png
END:VEVENT
BEGIN:VEVENT
DTSTART;TZID=America/New_York:20260628T140000
DTEND;TZID=America/New_York:20260628T150000
DTSTAMP:20260421T082131
CREATED:20250311T212119Z
LAST-MODIFIED:20250829T182926Z
UID:10013486-1782655200-1782658800@cmssny.org
SUMMARY:Make It!
DESCRIPTION:Make It! is a weekly activity where kids can unleash some creative energy on the weekend. This Sunday activity will be from 2 to 3pm.
URL:https://cmssny.org/event/make-it/2026-06-28/
ATTACH;FMTTYPE=image/png:https://cmssny.org/wp-content/uploads/2025/03/Make-it.png
END:VEVENT
BEGIN:VEVENT
DTSTART;TZID=America/New_York:20260705T140000
DTEND;TZID=America/New_York:20260705T150000
DTSTAMP:20260421T082131
CREATED:20250311T212119Z
LAST-MODIFIED:20250829T182926Z
UID:10013487-1783260000-1783263600@cmssny.org
SUMMARY:Make It!
DESCRIPTION:Make It! is a weekly activity where kids can unleash some creative energy on the weekend. This Sunday activity will be from 2 to 3pm.
URL:https://cmssny.org/event/make-it/2026-07-05/
ATTACH;FMTTYPE=image/png:https://cmssny.org/wp-content/uploads/2025/03/Make-it.png
END:VEVENT
BEGIN:VEVENT
DTSTART;TZID=America/New_York:20260712T140000
DTEND;TZID=America/New_York:20260712T150000
DTSTAMP:20260421T082131
CREATED:20250311T212119Z
LAST-MODIFIED:20250829T182926Z
UID:10013488-1783864800-1783868400@cmssny.org
SUMMARY:Make It!
DESCRIPTION:Make It! is a weekly activity where kids can unleash some creative energy on the weekend. This Sunday activity will be from 2 to 3pm.
URL:https://cmssny.org/event/make-it/2026-07-12/
ATTACH;FMTTYPE=image/png:https://cmssny.org/wp-content/uploads/2025/03/Make-it.png
END:VEVENT
BEGIN:VEVENT
DTSTART;TZID=America/New_York:20260719T140000
DTEND;TZID=America/New_York:20260719T150000
DTSTAMP:20260421T082131
CREATED:20250311T212119Z
LAST-MODIFIED:20250829T182926Z
UID:10013489-1784469600-1784473200@cmssny.org
SUMMARY:Make It!
DESCRIPTION:Make It! is a weekly activity where kids can unleash some creative energy on the weekend. This Sunday activity will be from 2 to 3pm.
URL:https://cmssny.org/event/make-it/2026-07-19/
ATTACH;FMTTYPE=image/png:https://cmssny.org/wp-content/uploads/2025/03/Make-it.png
END:VEVENT
BEGIN:VEVENT
DTSTART;TZID=America/New_York:20260726T140000
DTEND;TZID=America/New_York:20260726T150000
DTSTAMP:20260421T082131
CREATED:20250311T212119Z
LAST-MODIFIED:20250829T182926Z
UID:10013490-1785074400-1785078000@cmssny.org
SUMMARY:Make It!
DESCRIPTION:Make It! is a weekly activity where kids can unleash some creative energy on the weekend. This Sunday activity will be from 2 to 3pm.
URL:https://cmssny.org/event/make-it/2026-07-26/
ATTACH;FMTTYPE=image/png:https://cmssny.org/wp-content/uploads/2025/03/Make-it.png
END:VEVENT
BEGIN:VEVENT
DTSTART;TZID=America/New_York:20260802T140000
DTEND;TZID=America/New_York:20260802T150000
DTSTAMP:20260421T082131
CREATED:20250311T212119Z
LAST-MODIFIED:20250829T182926Z
UID:10013491-1785679200-1785682800@cmssny.org
SUMMARY:Make It!
DESCRIPTION:Make It! is a weekly activity where kids can unleash some creative energy on the weekend. This Sunday activity will be from 2 to 3pm.
URL:https://cmssny.org/event/make-it/2026-08-02/
ATTACH;FMTTYPE=image/png:https://cmssny.org/wp-content/uploads/2025/03/Make-it.png
END:VEVENT
BEGIN:VEVENT
DTSTART;TZID=America/New_York:20260809T140000
DTEND;TZID=America/New_York:20260809T150000
DTSTAMP:20260421T082131
CREATED:20250311T212119Z
LAST-MODIFIED:20250829T182926Z
UID:10013492-1786284000-1786287600@cmssny.org
SUMMARY:Make It!
DESCRIPTION:Make It! is a weekly activity where kids can unleash some creative energy on the weekend. This Sunday activity will be from 2 to 3pm.
URL:https://cmssny.org/event/make-it/2026-08-09/
ATTACH;FMTTYPE=image/png:https://cmssny.org/wp-content/uploads/2025/03/Make-it.png
END:VEVENT
BEGIN:VEVENT
DTSTART;TZID=America/New_York:20260816T140000
DTEND;TZID=America/New_York:20260816T150000
DTSTAMP:20260421T082131
CREATED:20250311T212119Z
LAST-MODIFIED:20250829T182926Z
UID:10013493-1786888800-1786892400@cmssny.org
SUMMARY:Make It!
DESCRIPTION:Make It! is a weekly activity where kids can unleash some creative energy on the weekend. This Sunday activity will be from 2 to 3pm.
URL:https://cmssny.org/event/make-it/2026-08-16/
ATTACH;FMTTYPE=image/png:https://cmssny.org/wp-content/uploads/2025/03/Make-it.png
END:VEVENT
BEGIN:VEVENT
DTSTART;TZID=America/New_York:20260823T140000
DTEND;TZID=America/New_York:20260823T150000
DTSTAMP:20260421T082131
CREATED:20250311T212119Z
LAST-MODIFIED:20250829T182926Z
UID:10013494-1787493600-1787497200@cmssny.org
SUMMARY:Make It!
DESCRIPTION:Make It! is a weekly activity where kids can unleash some creative energy on the weekend. This Sunday activity will be from 2 to 3pm.
URL:https://cmssny.org/event/make-it/2026-08-23/
ATTACH;FMTTYPE=image/png:https://cmssny.org/wp-content/uploads/2025/03/Make-it.png
END:VEVENT
BEGIN:VEVENT
DTSTART;TZID=America/New_York:20260830T140000
DTEND;TZID=America/New_York:20260830T150000
DTSTAMP:20260421T082131
CREATED:20250311T212119Z
LAST-MODIFIED:20250829T182926Z
UID:10013495-1788098400-1788102000@cmssny.org
SUMMARY:Make It!
DESCRIPTION:Make It! is a weekly activity where kids can unleash some creative energy on the weekend. This Sunday activity will be from 2 to 3pm.
URL:https://cmssny.org/event/make-it/2026-08-30/
ATTACH;FMTTYPE=image/png:https://cmssny.org/wp-content/uploads/2025/03/Make-it.png
END:VEVENT
BEGIN:VEVENT
DTSTART;TZID=America/New_York:20260906T140000
DTEND;TZID=America/New_York:20260906T150000
DTSTAMP:20260421T082131
CREATED:20250311T212119Z
LAST-MODIFIED:20250829T182926Z
UID:10013496-1788703200-1788706800@cmssny.org
SUMMARY:Make It!
DESCRIPTION:Make It! is a weekly activity where kids can unleash some creative energy on the weekend. This Sunday activity will be from 2 to 3pm.
URL:https://cmssny.org/event/make-it/2026-09-06/
ATTACH;FMTTYPE=image/png:https://cmssny.org/wp-content/uploads/2025/03/Make-it.png
END:VEVENT
BEGIN:VEVENT
DTSTART;TZID=America/New_York:20260913T140000
DTEND;TZID=America/New_York:20260913T150000
DTSTAMP:20260421T082131
CREATED:20250311T212119Z
LAST-MODIFIED:20250829T182926Z
UID:10013497-1789308000-1789311600@cmssny.org
SUMMARY:Make It!
DESCRIPTION:Make It! is a weekly activity where kids can unleash some creative energy on the weekend. This Sunday activity will be from 2 to 3pm.
URL:https://cmssny.org/event/make-it/2026-09-13/
ATTACH;FMTTYPE=image/png:https://cmssny.org/wp-content/uploads/2025/03/Make-it.png
END:VEVENT
BEGIN:VEVENT
DTSTART;TZID=America/New_York:20260920T140000
DTEND;TZID=America/New_York:20260920T150000
DTSTAMP:20260421T082131
CREATED:20250311T212119Z
LAST-MODIFIED:20250829T182926Z
UID:10013498-1789912800-1789916400@cmssny.org
SUMMARY:Make It!
DESCRIPTION:Make It! is a weekly activity where kids can unleash some creative energy on the weekend. This Sunday activity will be from 2 to 3pm.
URL:https://cmssny.org/event/make-it/2026-09-20/
ATTACH;FMTTYPE=image/png:https://cmssny.org/wp-content/uploads/2025/03/Make-it.png
END:VEVENT
BEGIN:VEVENT
DTSTART;TZID=America/New_York:20260927T140000
DTEND;TZID=America/New_York:20260927T150000
DTSTAMP:20260421T082131
CREATED:20250311T212119Z
LAST-MODIFIED:20250829T182926Z
UID:10013499-1790517600-1790521200@cmssny.org
SUMMARY:Make It!
DESCRIPTION:Make It! is a weekly activity where kids can unleash some creative energy on the weekend. This Sunday activity will be from 2 to 3pm.
URL:https://cmssny.org/event/make-it/2026-09-27/
ATTACH;FMTTYPE=image/png:https://cmssny.org/wp-content/uploads/2025/03/Make-it.png
END:VEVENT
BEGIN:VEVENT
DTSTART;TZID=America/New_York:20261004T140000
DTEND;TZID=America/New_York:20261004T150000
DTSTAMP:20260421T082131
CREATED:20250311T212119Z
LAST-MODIFIED:20250829T182926Z
UID:10013500-1791122400-1791126000@cmssny.org
SUMMARY:Make It!
DESCRIPTION:Make It! is a weekly activity where kids can unleash some creative energy on the weekend. This Sunday activity will be from 2 to 3pm.
URL:https://cmssny.org/event/make-it/2026-10-04/
ATTACH;FMTTYPE=image/png:https://cmssny.org/wp-content/uploads/2025/03/Make-it.png
END:VEVENT
BEGIN:VEVENT
DTSTART;TZID=America/New_York:20261011T140000
DTEND;TZID=America/New_York:20261011T150000
DTSTAMP:20260421T082131
CREATED:20250311T212119Z
LAST-MODIFIED:20250829T182926Z
UID:10013501-1791727200-1791730800@cmssny.org
SUMMARY:Make It!
DESCRIPTION:Make It! is a weekly activity where kids can unleash some creative energy on the weekend. This Sunday activity will be from 2 to 3pm.
URL:https://cmssny.org/event/make-it/2026-10-11/
ATTACH;FMTTYPE=image/png:https://cmssny.org/wp-content/uploads/2025/03/Make-it.png
END:VEVENT
BEGIN:VEVENT
DTSTART;TZID=America/New_York:20261018T140000
DTEND;TZID=America/New_York:20261018T150000
DTSTAMP:20260421T082131
CREATED:20250311T212119Z
LAST-MODIFIED:20250829T182926Z
UID:10013502-1792332000-1792335600@cmssny.org
SUMMARY:Make It!
DESCRIPTION:Make It! is a weekly activity where kids can unleash some creative energy on the weekend. This Sunday activity will be from 2 to 3pm.
URL:https://cmssny.org/event/make-it/2026-10-18/
ATTACH;FMTTYPE=image/png:https://cmssny.org/wp-content/uploads/2025/03/Make-it.png
END:VEVENT
BEGIN:VEVENT
DTSTART;TZID=America/New_York:20261025T140000
DTEND;TZID=America/New_York:20261025T150000
DTSTAMP:20260421T082131
CREATED:20250311T212119Z
LAST-MODIFIED:20250829T182926Z
UID:10013503-1792936800-1792940400@cmssny.org
SUMMARY:Make It!
DESCRIPTION:Make It! is a weekly activity where kids can unleash some creative energy on the weekend. This Sunday activity will be from 2 to 3pm.
URL:https://cmssny.org/event/make-it/2026-10-25/
ATTACH;FMTTYPE=image/png:https://cmssny.org/wp-content/uploads/2025/03/Make-it.png
END:VEVENT
BEGIN:VEVENT
DTSTART;TZID=America/New_York:20261101T140000
DTEND;TZID=America/New_York:20261101T150000
DTSTAMP:20260421T082131
CREATED:20250311T212119Z
LAST-MODIFIED:20250829T182926Z
UID:10013504-1793541600-1793545200@cmssny.org
SUMMARY:Make It!
DESCRIPTION:Make It! is a weekly activity where kids can unleash some creative energy on the weekend. This Sunday activity will be from 2 to 3pm.
URL:https://cmssny.org/event/make-it/2026-11-01/
ATTACH;FMTTYPE=image/png:https://cmssny.org/wp-content/uploads/2025/03/Make-it.png
END:VEVENT
BEGIN:VEVENT
DTSTART;TZID=America/New_York:20261108T140000
DTEND;TZID=America/New_York:20261108T150000
DTSTAMP:20260421T082131
CREATED:20250311T212119Z
LAST-MODIFIED:20250829T182926Z
UID:10013505-1794146400-1794150000@cmssny.org
SUMMARY:Make It!
DESCRIPTION:Make It! is a weekly activity where kids can unleash some creative energy on the weekend. This Sunday activity will be from 2 to 3pm.
URL:https://cmssny.org/event/make-it/2026-11-08/
ATTACH;FMTTYPE=image/png:https://cmssny.org/wp-content/uploads/2025/03/Make-it.png
END:VEVENT
BEGIN:VEVENT
DTSTART;TZID=America/New_York:20261115T140000
DTEND;TZID=America/New_York:20261115T150000
DTSTAMP:20260421T082131
CREATED:20250311T212119Z
LAST-MODIFIED:20250829T182926Z
UID:10013506-1794751200-1794754800@cmssny.org
SUMMARY:Make It!
DESCRIPTION:Make It! is a weekly activity where kids can unleash some creative energy on the weekend. This Sunday activity will be from 2 to 3pm.
URL:https://cmssny.org/event/make-it/2026-11-15/
ATTACH;FMTTYPE=image/png:https://cmssny.org/wp-content/uploads/2025/03/Make-it.png
END:VEVENT
END:VCALENDAR