BEGIN:VCALENDAR
VERSION:2.0
PRODID:-//The Children’s Museum at Saratoga - ECPv6.15.20//NONSGML v1.0//EN
CALSCALE:GREGORIAN
METHOD:PUBLISH
X-WR-CALNAME:The Children’s Museum at Saratoga
X-ORIGINAL-URL:https://cmssny.org
X-WR-CALDESC:Events for The Children’s Museum at Saratoga
REFRESH-INTERVAL;VALUE=DURATION:PT1H
X-Robots-Tag:noindex
X-PUBLISHED-TTL:PT1H
BEGIN:VTIMEZONE
TZID:America/New_York
BEGIN:DAYLIGHT
TZOFFSETFROM:-0500
TZOFFSETTO:-0400
TZNAME:EDT
DTSTART:20250309T070000
END:DAYLIGHT
BEGIN:STANDARD
TZOFFSETFROM:-0400
TZOFFSETTO:-0500
TZNAME:EST
DTSTART:20251102T060000
END:STANDARD
BEGIN:DAYLIGHT
TZOFFSETFROM:-0500
TZOFFSETTO:-0400
TZNAME:EDT
DTSTART:20260308T070000
END:DAYLIGHT
BEGIN:STANDARD
TZOFFSETFROM:-0400
TZOFFSETTO:-0500
TZNAME:EST
DTSTART:20261101T060000
END:STANDARD
BEGIN:DAYLIGHT
TZOFFSETFROM:-0500
TZOFFSETTO:-0400
TZNAME:EDT
DTSTART:20270314T070000
END:DAYLIGHT
BEGIN:STANDARD
TZOFFSETFROM:-0400
TZOFFSETTO:-0500
TZNAME:EST
DTSTART:20271107T060000
END:STANDARD
END:VTIMEZONE
BEGIN:VEVENT
DTSTART;TZID=America/New_York:20260620T110000
DTEND;TZID=America/New_York:20260620T113000
DTSTAMP:20260422T031202
CREATED:20250506T151149Z
LAST-MODIFIED:20250506T151149Z
UID:10014013-1781953200-1781955000@cmssny.org
SUMMARY:Move It!
DESCRIPTION:Let’s get things moving with Move It! In this program we will be exploring movement. It could be moving objects\, or playing a game like Simon Says! There are so many ways to explore the way things can move. \nThis program is great for ages 2 and up. Our educators are experts at adapting programs to fit the needs of our guests!
URL:https://cmssny.org/event/move-it-2/2026-06-20/
ATTACH;FMTTYPE=image/png:https://cmssny.org/wp-content/uploads/2023/10/Move-it.png
END:VEVENT
END:VCALENDAR