BEGIN:VCALENDAR
VERSION:2.0
PRODID:-//The Children’s Museum at Saratoga - ECPv6.15.20//NONSGML v1.0//EN
CALSCALE:GREGORIAN
METHOD:PUBLISH
X-WR-CALNAME:The Children’s Museum at Saratoga
X-ORIGINAL-URL:https://cmssny.org
X-WR-CALDESC:Events for The Children’s Museum at Saratoga
REFRESH-INTERVAL;VALUE=DURATION:PT1H
X-Robots-Tag:noindex
X-PUBLISHED-TTL:PT1H
BEGIN:VTIMEZONE
TZID:UTC
BEGIN:STANDARD
TZOFFSETFROM:+0000
TZOFFSETTO:+0000
TZNAME:UTC
DTSTART:20250101T000000
END:STANDARD
END:VTIMEZONE
BEGIN:VTIMEZONE
TZID:America/New_York
BEGIN:DAYLIGHT
TZOFFSETFROM:-0500
TZOFFSETTO:-0400
TZNAME:EDT
DTSTART:20250309T070000
END:DAYLIGHT
BEGIN:STANDARD
TZOFFSETFROM:-0400
TZOFFSETTO:-0500
TZNAME:EST
DTSTART:20251102T060000
END:STANDARD
BEGIN:DAYLIGHT
TZOFFSETFROM:-0500
TZOFFSETTO:-0400
TZNAME:EDT
DTSTART:20260308T070000
END:DAYLIGHT
BEGIN:STANDARD
TZOFFSETFROM:-0400
TZOFFSETTO:-0500
TZNAME:EST
DTSTART:20261101T060000
END:STANDARD
BEGIN:DAYLIGHT
TZOFFSETFROM:-0500
TZOFFSETTO:-0400
TZNAME:EDT
DTSTART:20270314T070000
END:DAYLIGHT
BEGIN:STANDARD
TZOFFSETFROM:-0400
TZOFFSETTO:-0500
TZNAME:EST
DTSTART:20271107T060000
END:STANDARD
END:VTIMEZONE
BEGIN:VEVENT
DTSTART;TZID=UTC:20260423T093000
DTEND;TZID=UTC:20260423T100000
DTSTAMP:20260423T160022
CREATED:20230224T183051Z
LAST-MODIFIED:20250707T200452Z
UID:10002852-1776936600-1776938400@cmssny.org
SUMMARY:Story Time
DESCRIPTION:Each week we’ll read a different book allowing your child to create real world connections as they familiarize themselves with the alphabet\, new vocabulary words\, and rhymes. \nBest Suited for ages 2 and up \nWhat are we learning: Language Proficiency\, Communication Skills\, Listening Skills\, and Fine Motor Skills
URL:https://cmssny.org/event/story-time-am/2026-04-23/
LOCATION:The Children’s Museum at Saratoga\, 65 South Broadway\, Saratoga Springs\, NY\, 12866\, United States
ATTACH;FMTTYPE=image/png:https://cmssny.org/wp-content/uploads/2023/08/Storytime-3.png
END:VEVENT
BEGIN:VEVENT
DTSTART;TZID=America/New_York:20260423T110000
DTEND;TZID=America/New_York:20260423T113000
DTSTAMP:20260423T160022
CREATED:20260413T195646Z
LAST-MODIFIED:20260413T195646Z
UID:10015238-1776942000-1776943800@cmssny.org
SUMMARY:Fluffy Clouds
DESCRIPTION:Clouds can remind us of all kinds of things\, whether it is a tree or an airplane! Inspired by Eric Carle’s Little Cloud\, we will paint fluffy clouds using cotton balls! What will your cloud look like?
URL:https://cmssny.org/event/fluffy-clouds/2026-04-23/1/
ATTACH;FMTTYPE=image/png:https://cmssny.org/wp-content/uploads/2026/04/April-Web-Calendar-3.png
END:VEVENT
BEGIN:VEVENT
DTSTART;TZID=UTC:20260423T133000
DTEND;TZID=UTC:20260423T140000
DTSTAMP:20260423T160022
CREATED:20230803T133059Z
LAST-MODIFIED:20251124T170834Z
UID:10009403-1776951000-1776952800@cmssny.org
SUMMARY:Story Time
DESCRIPTION:Each week we’ll read a different book allowing your child to create real world connections as they familiarize themselves with the alphabet\, new vocabulary words\, and rhymes. \nBest Suited for ages 2 and up \nWhat are we learning: Language Proficiency\, Communication Skills\, Listening Skills\, and Fine Motor Skills
URL:https://cmssny.org/event/story-time-part-pm/2026-04-23/
LOCATION:The Children’s Museum at Saratoga\, 65 South Broadway\, Saratoga Springs\, NY\, 12866\, United States
ATTACH;FMTTYPE=image/png:https://cmssny.org/wp-content/uploads/2023/08/Storytime-3.png
END:VEVENT
BEGIN:VEVENT
DTSTART;TZID=America/New_York:20260423T150000
DTEND;TZID=America/New_York:20260423T153000
DTSTAMP:20260423T160022
CREATED:20260413T195646Z
LAST-MODIFIED:20260413T195646Z
UID:10015239-1776956400-1776958200@cmssny.org
SUMMARY:Fluffy Clouds
DESCRIPTION:Clouds can remind us of all kinds of things\, whether it is a tree or an airplane! Inspired by Eric Carle’s Little Cloud\, we will paint fluffy clouds using cotton balls! What will your cloud look like?
URL:https://cmssny.org/event/fluffy-clouds/2026-04-23/2/
ATTACH;FMTTYPE=image/png:https://cmssny.org/wp-content/uploads/2026/04/April-Web-Calendar-3.png
END:VEVENT
END:VCALENDAR